BEGIN:VCALENDAR
VERSION:2.0
PRODID:SchoolNow
CALSCALE:GREGORIAN
BEGIN:VEVENT
UID:2877375e-f20f-11ea-b2b8-12b1e7ae3cc7
DTSTAMP:20200909T191201Z
SUMMARY:Grade 6 Virtual Orientation
URL;VALUE=URI:https://www.albanyschools.org/schools/myers/calendar/2342153/
 grade-6-virtual-orientation
DTSTART:20200910T181000Z
DTEND:20200910T185000Z
END:VEVENT
END:VCALENDAR
