BEGIN:VCALENDAR
VERSION:2.0
PRODID:SchoolNow
CALSCALE:GREGORIAN
BEGIN:VEVENT
UID:70e486b8-f20f-11ea-81b5-0aa854ede147
DTSTAMP:20200909T191151Z
SUMMARY:Grade 7 Virtual Orientation
URL;VALUE=URI:https://www.albanyschools.org/schools/myers/calendar/2342154/
 grade-7-virtual-orientation
DTSTART:20200910T172000Z
DTEND:20200910T180000Z
END:VEVENT
END:VCALENDAR
