BEGIN:VCALENDAR
VERSION:2.0
PRODID:SchoolNow
CALSCALE:GREGORIAN
BEGIN:VEVENT
UID:aaa3067c-f20f-11ea-a1ce-12be90962559
DTSTAMP:20200909T191142Z
SUMMARY:Grade 8 Virtual Orientation
URL;VALUE=URI:https://www.albanyschools.org/schools/myers/calendar/2342155/
 grade-8-virtual-orientation
DTSTART:20200910T163000Z
DTEND:20200910T171000Z
END:VEVENT
END:VCALENDAR
