BEGIN:VCALENDAR
VERSION:2.0
PRODID:SchoolNow
CALSCALE:GREGORIAN
BEGIN:VEVENT
UID:8673f2ba-0e21-11eb-8424-0af9753bbd29
DTSTAMP:20201022T160412Z
SUMMARY:Myers Virtual Open House
URL;VALUE=URI:https://www.albanyschools.org/schools/myers/calendar/2457664/
 virtual-open-house
DTSTART:20201022T210000Z
DTEND:20201022T230000Z
END:VEVENT
END:VCALENDAR
