BEGIN:VCALENDAR
VERSION:2.0
PRODID:SchoolNow
CALSCALE:GREGORIAN
BEGIN:VEVENT
UID:b7bdcf10-0ee6-11eb-8bf2-0ad48506f7d7
DTSTAMP:20201019T155947Z
SUMMARY:PTSA Meeting
URL;VALUE=URI:https://www.albanyschools.org/schools/myers/calendar/2463174/
 ptsa-meeting
DTSTART:20201019T223000Z
DTEND:20201020T000000Z
END:VEVENT
END:VCALENDAR
