BEGIN:VCALENDAR
VERSION:2.0
PRODID:SchoolNow
CALSCALE:GREGORIAN
BEGIN:VEVENT
UID:066f8f32-2363-11eb-8427-0ab35b5e298b
DTSTAMP:20201112T223157Z
SUMMARY:Albany High academy info night
URL;VALUE=URI:https://www.albanyschools.org/schools/myers/calendar/2493547/
 albany-high-academy-info-night
DTSTART:20201112T223000Z
DTEND:20201112T233000Z
END:VEVENT
END:VCALENDAR
