BEGIN:VCALENDAR
VERSION:2.0
PRODID:SchoolNow
CALSCALE:GREGORIAN
BEGIN:VEVENT
UID:b0870dac-25d8-11eb-a9b4-0ad19b03ab03
DTSTAMP:20201113T175149Z
SUMMARY:November PTSA Meeting
URL;VALUE=URI:https://www.albanyschools.org/schools/myers/calendar/2496191/
 november-ptsa-meeting
DTSTART:20201116T233000Z
DTEND:20201117T010000Z
END:VEVENT
END:VCALENDAR
