BEGIN:VCALENDAR
VERSION:2.0
PRODID:SchoolNow
CALSCALE:GREGORIAN
BEGIN:VEVENT
UID:141bc6e2-33de-11eb-8608-12842a675de1
DTSTAMP:20201201T140407Z
SUMMARY:No school: Holiday Recess
URL;VALUE=URI:https://www.albanyschools.org/schools/myers/calendar/2506128/
 no-school-holiday-recess
DTSTART;VALUE=DATE:20201224
DTEND;VALUE=DATE:20210102
END:VEVENT
END:VCALENDAR
