BEGIN:VCALENDAR
VERSION:2.0
PRODID:SchoolNow
CALSCALE:GREGORIAN
BEGIN:VEVENT
UID:0ab6b75e-33ea-11eb-a6d4-12cf2b816a5f
DTSTAMP:20201201T152946Z
SUMMARY:Virtual first quarter honor roll ceremony
URL;VALUE=URI:https://www.albanyschools.org/schools/myers/calendar/2506140/
 virtual-first-quarter-honor-roll-ceremony
DTSTART:20201208T133000Z
DTEND:20201208T143000Z
END:VEVENT
END:VCALENDAR
