BEGIN:VCALENDAR
VERSION:2.0
PRODID:SchoolNow
CALSCALE:GREGORIAN
BEGIN:VEVENT
UID:18880b1c-33ea-11eb-a8d1-0af794100637
DTSTAMP:20201214T205252Z
SUMMARY:Virtual PTSA Meeting
URL;VALUE=URI:https://www.albanyschools.org/schools/myers/calendar/2506142/
 virtual-ptsa-meeting
DTSTART:20201214T233000Z
DTEND:20201215T003000Z
END:VEVENT
END:VCALENDAR
