BEGIN:VCALENDAR
VERSION:2.0
PRODID:SchoolNow
CALSCALE:GREGORIAN
BEGIN:VEVENT
UID:2ae0a256-33ea-11eb-89d8-12b9e7672d9b
DTSTAMP:20210125T174351Z
SUMMARY:Virtual PTSA Meeting
URL;VALUE=URI:https://www.albanyschools.org/schools/myers/calendar/2506145/
 virtual-ptsa-meeting
DTSTART:20210125T230000Z
DTEND:20210126T003000Z
END:VEVENT
END:VCALENDAR
