BEGIN:VCALENDAR
VERSION:2.0
PRODID:SchoolNow
CALSCALE:GREGORIAN
BEGIN:VEVENT
UID:3f45a49e-33ea-11eb-bffa-0a4729973ed1
DTSTAMP:20210222T153902Z
SUMMARY:Virtual PTSA Meeting
URL;VALUE=URI:https://www.albanyschools.org/schools/myers/calendar/2506146/
 virtual-ptsa-meeting
DTSTART:20210222T233000Z
DTEND:20210223T003000Z
END:VEVENT
END:VCALENDAR
