BEGIN:VCALENDAR
VERSION:2.0
PRODID:SchoolNow
CALSCALE:GREGORIAN
BEGIN:VEVENT
UID:54f84d96-33ea-11eb-a17f-12b9e7672d9b
DTSTAMP:20201201T153150Z
SUMMARY:Virtual second quarter honor roll ceremony
URL;VALUE=URI:https://www.albanyschools.org/schools/myers/calendar/2506147/
 virtual-second-quarter-honor-roll-ceremony
DTSTART:20210223T133000Z
DTEND:20210223T143000Z
END:VEVENT
END:VCALENDAR
