BEGIN:VCALENDAR
VERSION:2.0
PRODID:SchoolNow
CALSCALE:GREGORIAN
BEGIN:VEVENT
UID:af167f14-33ea-11eb-aefa-12b9e7672d9b
DTSTAMP:20201201T153447Z
SUMMARY:Virtual Black History Month Celebration
URL;VALUE=URI:https://www.albanyschools.org/schools/myers/calendar/2506151/
 virtual-black-history-month-celebration
DTSTART:20210226T110000Z
DTEND:20210226T120000Z
END:VEVENT
END:VCALENDAR
