BEGIN:VCALENDAR
VERSION:2.0
PRODID:SchoolNow
CALSCALE:GREGORIAN
BEGIN:VEVENT
UID:22ba7704-33eb-11eb-a787-0af794100637
DTSTAMP:20210322T181025Z
SUMMARY:Virtual PTSA Meeting
URL;VALUE=URI:https://www.albanyschools.org/schools/myers/calendar/2506169/
 virtual-ptsa-meeting
DTSTART:20210322T223000Z
DTEND:20210322T233000Z
END:VEVENT
END:VCALENDAR
