BEGIN:VCALENDAR
VERSION:2.0
PRODID:SchoolNow
CALSCALE:GREGORIAN
BEGIN:VEVENT
UID:4405db92-33eb-11eb-895b-0a1683c8582b
DTSTAMP:20201201T153831Z
SUMMARY:Virtual PTSA Meeting
URL;VALUE=URI:https://www.albanyschools.org/schools/myers/calendar/2506171/
 virtual-ptsa-meeting
DTSTART:20210421T223000Z
DTEND:20210421T233000Z
END:VEVENT
END:VCALENDAR
