BEGIN:VCALENDAR
VERSION:2.0
PRODID:SchoolNow
CALSCALE:GREGORIAN
BEGIN:VEVENT
UID:6209f0b0-33eb-11eb-9f28-0af794100637
DTSTAMP:20210604T151857Z
SUMMARY:Virtual PTSA Meeting
URL;VALUE=URI:https://www.albanyschools.org/schools/myers/calendar/2506173/
 virtual-ptsa-meeting
DTSTART:20210607T223000Z
DTEND:20210607T233000Z
END:VEVENT
END:VCALENDAR
