BEGIN:VCALENDAR
VERSION:2.0
PRODID:SchoolNow
CALSCALE:GREGORIAN
BEGIN:VEVENT
UID:4f719590-5419-11eb-a3e8-0a6a1d8e765f
DTSTAMP:20210111T142844Z
SUMMARY:Vegetable Project Meeting
URL;VALUE=URI:https://www.albanyschools.org/schools/myers/calendar/2522475/
 vegetable-project-meeting
DTSTART:20210115T200000Z
DTEND:20210115T210000Z
END:VEVENT
END:VCALENDAR
