BEGIN:VCALENDAR
VERSION:2.0
PRODID:SchoolNow
CALSCALE:GREGORIAN
BEGIN:VEVENT
UID:628334c6-60d6-11eb-9319-02566aa3a2d1
DTSTAMP:20210203T185913Z
SUMMARY:PTSA Fundraiser: Valentine's Day gift bags
URL;VALUE=URI:https://www.albanyschools.org/schools/myers/calendar/2531475/
 ptsa-fundraiser-valentines-day-gift-bags
DTSTART:20210127T210000Z
DTEND:20210210T220000Z
END:VEVENT
END:VCALENDAR
