BEGIN:VCALENDAR
VERSION:2.0
PRODID:SchoolNow
CALSCALE:GREGORIAN
BEGIN:VEVENT
UID:2849ea56-60d7-11eb-8975-02fa7cb5114f
DTSTAMP:20210127T195843Z
SUMMARY:PTSA fundraiser: Chipotle night
URL;VALUE=URI:https://www.albanyschools.org/schools/myers/calendar/2531476/
 ptsa-fundraiser-chipotle-night
DTSTART:20210208T220000Z
DTEND:20210209T020000Z
END:VEVENT
END:VCALENDAR
