BEGIN:VCALENDAR
VERSION:2.0
PRODID:SchoolNow
CALSCALE:GREGORIAN
BEGIN:VEVENT
UID:8afce128-8e34-11eb-837b-0e456887c715
DTSTAMP:20210326T160102Z
SUMMARY:Picture Day(s)
URL;VALUE=URI:https://www.albanyschools.org/schools/myers/calendar/2562927/
 picture-day
DTSTART:20210413T130700Z
DTEND:20210414T140700Z
END:VEVENT
END:VCALENDAR
