BEGIN:VCALENDAR
VERSION:2.0
PRODID:SchoolNow
CALSCALE:GREGORIAN
BEGIN:VEVENT
UID:7ae5acb8-9869-11eb-83ae-02ef9692a32b
DTSTAMP:20210408T125356Z
SUMMARY:New York State math test\, Hackett and Myers students grades 7-8 wi
 th last names M-Z
URL;VALUE=URI:https://www.albanyschools.org/schools/myers/calendar/2568668/
 new-york-state-math-test-hackett-and-myers-students-grades-7-8-with-last-n
 ames-m-z
DTSTART;VALUE=DATE:20210505
DTEND;VALUE=DATE:20210506
END:VEVENT
END:VCALENDAR
