BEGIN:VCALENDAR
VERSION:2.0
PRODID:SchoolNow
CALSCALE:GREGORIAN
BEGIN:VEVENT
UID:3d7b9ea0-a2b9-11eb-a02f-02a96d354b6f
DTSTAMP:20210421T155004Z
SUMMARY:Quarter 4 virtual orientation
URL;VALUE=URI:https://www.albanyschools.org/schools/myers/calendar/2583519/
 quarter-4-virtual-orientation
DTSTART:20210422T210000Z
DTEND:20210422T220000Z
END:VEVENT
END:VCALENDAR
