BEGIN:VCALENDAR
VERSION:2.0
PRODID:SchoolNow
CALSCALE:GREGORIAN
BEGIN:VEVENT
UID:244c761e-a446-11eb-9497-0af1ade72bf7
DTSTAMP:20210426T163423Z
SUMMARY:PTSA Meeting
URL;VALUE=URI:https://www.albanyschools.org/schools/myers/calendar/2584895/
 ptsa-meeting
DTSTART:20210426T223000Z
DTEND:20210426T233000Z
END:VEVENT
END:VCALENDAR
