BEGIN:VCALENDAR
VERSION:2.0
PRODID:SchoolNow
CALSCALE:GREGORIAN
BEGIN:VEVENT
UID:7c3e348e-ae9b-11eb-89b0-0e2e1ea57f13
DTSTAMP:20210506T184719Z
SUMMARY:Parent University: Stress and Trauma (5/11)
URL;VALUE=URI:https://www.albanyschools.org/schools/myers/calendar/2595064/
 stress-5-11
DTSTART:20210511T230000Z
DTEND:20210512T000000Z
END:VEVENT
END:VCALENDAR
