BEGIN:VCALENDAR
VERSION:2.0
PRODID:SchoolNow
CALSCALE:GREGORIAN
BEGIN:VEVENT
UID:88e0ee78-ba46-11eb-8a18-02364148cbc7
DTSTAMP:20210521T150927Z
SUMMARY:PTSA Panera Fundraiser
URL;VALUE=URI:https://www.albanyschools.org/schools/myers/calendar/2603514/
 ptsa-panera-fundraiser
DTSTART:20210616T200000Z
DTEND:20210617T000000Z
END:VEVENT
END:VCALENDAR
