BEGIN:VCALENDAR
VERSION:2.0
PRODID:SchoolNow
CALSCALE:GREGORIAN
BEGIN:VEVENT
UID:82bad72c-bd73-11eb-bbf7-0a25a9b8f245
DTSTAMP:20210525T160857Z
SUMMARY:Grade 8 Moving-Up Ceremony
URL;VALUE=URI:https://www.albanyschools.org/schools/myers/calendar/2605618/
 grade-8-moving-up-ceremony
DTSTART:20210625T130000Z
DTEND:20210625T161500Z
END:VEVENT
END:VCALENDAR
