BEGIN:VCALENDAR
VERSION:2.0
PRODID:SchoolNow
CALSCALE:GREGORIAN
BEGIN:VEVENT
UID:be088e28-bd73-11eb-9c11-0ec9cadac65f
DTSTAMP:20210525T161037Z
SUMMARY:Field Day for grades 6-8
URL;VALUE=URI:https://www.albanyschools.org/schools/myers/calendar/2605619/
 field-day-for-grades-6-8
DTSTART:20210621T150000Z
DTEND:20210621T180000Z
END:VEVENT
END:VCALENDAR
