BEGIN:VCALENDAR
VERSION:2.0
PRODID:SchoolNow
CALSCALE:GREGORIAN
BEGIN:VEVENT
UID:29de0bd6-ceb4-11eb-a797-0e9e8dd162af
DTSTAMP:20211019T194350Z
SUMMARY:Modified winter sports begin
URL;VALUE=URI:https://www.albanyschools.org/schools/myers/calendar/2621037/
 modified-winter-sports-begin
DTSTART;VALUE=DATE:20211122
DTEND;VALUE=DATE:20211123
END:VEVENT
END:VCALENDAR
