BEGIN:VCALENDAR
VERSION:2.0
PRODID:SchoolNow
CALSCALE:GREGORIAN
BEGIN:VEVENT
UID:6b52e2b2-ceb4-11eb-bf8d-0a95e0965733
DTSTAMP:20210616T150625Z
SUMMARY:Modified spring sports begin
URL;VALUE=URI:https://www.albanyschools.org/schools/myers/calendar/2621050/
 modified-spring-sports-begin
DTSTART:20220321T150500Z
DTEND:20220321T160500Z
END:VEVENT
END:VCALENDAR
