BEGIN:VCALENDAR
VERSION:2.0
PRODID:SchoolNow
CALSCALE:GREGORIAN
BEGIN:VEVENT
UID:14a4ba66-e981-11eb-9bcc-0e17b887e963
DTSTAMP:20210720T195144Z
SUMMARY:Pre-season fall sports interest meeting
URL;VALUE=URI:https://www.albanyschools.org/schools/myers/calendar/2643371/
 pre-season-fall-sports-interest-meeting
DTSTART:20210804T160000Z
DTEND:20210804T170000Z
END:VEVENT
END:VCALENDAR
