BEGIN:VCALENDAR
VERSION:2.0
PRODID:SchoolNow
CALSCALE:GREGORIAN
BEGIN:VEVENT
UID:022628ea-efd3-11eb-8f47-022cdcaaef35
DTSTAMP:20210728T185149Z
SUMMARY:Albany High academy lottery applications available
URL;VALUE=URI:https://www.albanyschools.org/schools/myers/calendar/2649616/
 albany-high-academy-lottery-applications-available
DTSTART;VALUE=DATE:20211004
DTEND;VALUE=DATE:20211005
END:VEVENT
END:VCALENDAR
