BEGIN:VCALENDAR
VERSION:2.0
PRODID:SchoolNow
CALSCALE:GREGORIAN
BEGIN:VEVENT
UID:06be7bd0-efd5-11eb-97d2-025f6550bf6f
DTSTAMP:20210728T185707Z
SUMMARY:Albany High academy lottery
URL;VALUE=URI:https://www.albanyschools.org/schools/myers/calendar/2649622/
 albany-high-academy-lottery
DTSTART:20211210T050000Z
DTEND:20211211T045900Z
END:VEVENT
END:VCALENDAR
