BEGIN:VCALENDAR
VERSION:2.0
PRODID:SchoolNow
CALSCALE:GREGORIAN
BEGIN:VEVENT
UID:9ebde658-f6bc-11eb-96b2-0eda4da6ebfb
DTSTAMP:20210806T134554Z
SUMMARY:Junior Falcon Transition Camp
URL;VALUE=URI:https://www.albanyschools.org/schools/myers/calendar/2657041/
 junior-falcon-transition-camp
DTSTART:20210823T123000Z
DTEND:20210827T153000Z
END:VEVENT
END:VCALENDAR
