BEGIN:VCALENDAR
VERSION:2.0
PRODID:SchoolNow
CALSCALE:GREGORIAN
BEGIN:VEVENT
UID:fa32c772-fa10-11eb-8d98-0ed9296f2167
DTSTAMP:20210810T192718Z
SUMMARY:Myers Transition Camp
URL;VALUE=URI:https://www.albanyschools.org/schools/myers/calendar/2664120/
 myers-transition-camp
DTSTART:20210823T123000Z
DTEND:20210827T153000Z
END:VEVENT
END:VCALENDAR
