BEGIN:VCALENDAR
VERSION:2.0
PRODID:SchoolNow
CALSCALE:GREGORIAN
BEGIN:VEVENT
UID:697b7a94-050a-11ec-a419-0ee8541b5ca3
DTSTAMP:20210917T141741Z
SUMMARY:PTSA meeting
URL;VALUE=URI:https://www.albanyschools.org/schools/myers/calendar/2687108/
 ptsa-meeting
DTSTART:20210920T223000Z
DTEND:20210920T233000Z
END:VEVENT
END:VCALENDAR
