BEGIN:VCALENDAR
VERSION:2.0
PRODID:SchoolNow
CALSCALE:GREGORIAN
BEGIN:VEVENT
UID:7b22aad8-050a-11ec-91ce-02e5eda6e069
DTSTAMP:20210927T134539Z
SUMMARY:Open House
URL;VALUE=URI:https://www.albanyschools.org/schools/myers/calendar/2687109/
 open-house
DTSTART:20210929T213000Z
DTEND:20210929T233000Z
END:VEVENT
END:VCALENDAR
