BEGIN:VCALENDAR
VERSION:2.0
PRODID:SchoolNow
CALSCALE:GREGORIAN
BEGIN:VEVENT
UID:99df6aba-050a-11ec-b7cf-0a40d2df2d85
DTSTAMP:20211019T151338Z
SUMMARY:School Picture Day
URL;VALUE=URI:https://www.albanyschools.org/schools/myers/calendar/2687111/
 school-picture-day
DTSTART:20211027T120000Z
DTEND:20211027T190000Z
END:VEVENT
END:VCALENDAR
