BEGIN:VCALENDAR
VERSION:2.0
PRODID:SchoolNow
CALSCALE:GREGORIAN
BEGIN:VEVENT
UID:abc9a75e-050a-11ec-bd4c-02f9092dfe45
DTSTAMP:20211109T144524Z
SUMMARY:School Picture Day (make up)
URL;VALUE=URI:https://www.albanyschools.org/schools/myers/calendar/2687112/
 school-picture-day-make-up
DTSTART:20211119T193900Z
DTEND:20211119T203900Z
END:VEVENT
END:VCALENDAR
