BEGIN:VCALENDAR
VERSION:2.0
PRODID:SchoolNow
CALSCALE:GREGORIAN
BEGIN:VEVENT
UID:34ff5968-1bb0-11ec-9a8b-02478360bc33
DTSTAMP:20210922T142015Z
SUMMARY:Trunk-or-Treat
URL;VALUE=URI:https://www.albanyschools.org/schools/myers/calendar/2755810/
 trunk-or-treat
DTSTART:20211028T210000Z
DTEND:20211028T230000Z
END:VEVENT
END:VCALENDAR
