BEGIN:VCALENDAR
VERSION:2.0
PRODID:SchoolNow
CALSCALE:GREGORIAN
BEGIN:VEVENT
UID:c6f2be6c-1c70-11ec-b2d4-0e9df12faa41
DTSTAMP:20211015T170258Z
SUMMARY:PTSA Meeting
URL;VALUE=URI:https://www.albanyschools.org/schools/myers/calendar/2758485/
 ptsa-meeting
DTSTART:20211018T221500Z
DTEND:20211018T231500Z
END:VEVENT
END:VCALENDAR
