BEGIN:VCALENDAR
VERSION:2.0
PRODID:SchoolNow
CALSCALE:GREGORIAN
BEGIN:VEVENT
UID:f845407a-1c70-11ec-a43d-02b69a66b19d
DTSTAMP:20211112T190627Z
SUMMARY:PTSA Meeting
URL;VALUE=URI:https://www.albanyschools.org/schools/myers/calendar/2758486/
 ptsa-meeting-clone
DTSTART:20211115T231500Z
DTEND:20211116T001500Z
END:VEVENT
END:VCALENDAR
