BEGIN:VCALENDAR
VERSION:2.0
PRODID:SchoolNow
CALSCALE:GREGORIAN
BEGIN:VEVENT
UID:038dde56-1c71-11ec-8838-02b69a66b19d
DTSTAMP:20211203T174822Z
SUMMARY:PTSA Meeting
URL;VALUE=URI:https://www.albanyschools.org/schools/myers/calendar/2758487/
 ptsa-meeting-clone-clone
DTSTART:20211206T231500Z
DTEND:20211207T001500Z
END:VEVENT
END:VCALENDAR
