BEGIN:VCALENDAR
VERSION:2.0
PRODID:SchoolNow
CALSCALE:GREGORIAN
BEGIN:VEVENT
UID:0d985eda-1c71-11ec-bab3-02b69a66b19d
DTSTAMP:20220107T151247Z
SUMMARY:PTSA Meeting
URL;VALUE=URI:https://www.albanyschools.org/schools/myers/calendar/2758488/
 ptsa-meeting-clone-clone-clone
DTSTART:20220110T231500Z
DTEND:20220111T001500Z
END:VEVENT
END:VCALENDAR
