BEGIN:VCALENDAR
VERSION:2.0
PRODID:SchoolNow
CALSCALE:GREGORIAN
BEGIN:VEVENT
UID:15b01036-1c71-11ec-a024-02b69a66b19d
DTSTAMP:20220203T182601Z
SUMMARY:PTSA Meeting
URL;VALUE=URI:https://www.albanyschools.org/schools/myers/calendar/2758489/
 ptsa-meeting-clone-clone-clone-clone
DTSTART:20220207T231500Z
DTEND:20220208T001500Z
END:VEVENT
END:VCALENDAR
