BEGIN:VCALENDAR
VERSION:2.0
PRODID:SchoolNow
CALSCALE:GREGORIAN
BEGIN:VEVENT
UID:39f2e0ea-1c71-11ec-ba2d-0ef648548e51
DTSTAMP:20210923T132157Z
SUMMARY:PTSA Meeting
URL;VALUE=URI:https://www.albanyschools.org/schools/myers/calendar/2758491/
 ptsa-meeting-clone-clone-clone-clone-clone-clone
DTSTART:20220404T221500Z
DTEND:20220404T231500Z
END:VEVENT
END:VCALENDAR
