BEGIN:VCALENDAR
VERSION:2.0
PRODID:SchoolNow
CALSCALE:GREGORIAN
BEGIN:VEVENT
UID:432a1476-1c71-11ec-9ec5-0ef648548e51
DTSTAMP:20220506T172358Z
SUMMARY:PTSA Meeting
URL;VALUE=URI:https://www.albanyschools.org/schools/myers/calendar/2758492/
 ptsa-meeting-clone-clone-clone-clone-clone-clone-clone
DTSTART:20220509T221500Z
DTEND:20220509T231500Z
END:VEVENT
END:VCALENDAR
