BEGIN:VCALENDAR
VERSION:2.0
PRODID:SchoolNow
CALSCALE:GREGORIAN
BEGIN:VEVENT
UID:4ec92dd0-1c71-11ec-9eb3-0ef648548e51
DTSTAMP:20220603T161017Z
SUMMARY:PTSA Meeting
URL;VALUE=URI:https://www.albanyschools.org/schools/myers/calendar/2758493/
 ptsa-meeting-clone-clone-clone-clone-clone-clone-clone-clone
DTSTART:20220606T221500Z
DTEND:20220606T231500Z
END:VEVENT
END:VCALENDAR
