BEGIN:VCALENDAR
VERSION:2.0
PRODID:SchoolNow
CALSCALE:GREGORIAN
BEGIN:VEVENT
UID:6f9a45e4-30ee-11ec-9adb-0e6024f1e07b
DTSTAMP:20211019T151402Z
SUMMARY:School Picture Day
URL;VALUE=URI:https://www.albanyschools.org/schools/myers/calendar/2827125/
 school-picture-day
DTSTART:20211028T120000Z
DTEND:20211028T190000Z
END:VEVENT
END:VCALENDAR
