BEGIN:VCALENDAR
VERSION:2.0
PRODID:SchoolNow
CALSCALE:GREGORIAN
BEGIN:VEVENT
UID:7d1c6636-794e-11ec-a641-02fb32766c9d
DTSTAMP:20220119T173735Z
SUMMARY:Early dismissal for middle school students
URL;VALUE=URI:https://www.albanyschools.org/schools/myers/calendar/3077935/
 early-dismissal-for-middle-school-students
DTSTART:20220216T183000Z
DTEND:20220216T193000Z
END:VEVENT
END:VCALENDAR
